BEGIN:VCALENDAR
VERSION:2.0
PRODID:-//Plone.org//NONSGML plone.app.event//EN
X-WR-TIMEZONE:US/Eastern
BEGIN:VEVENT
SUMMARY:Adult Book Club
DTSTART;TZID=US/Eastern:20150714T100000
DTEND;TZID=US/Eastern:20150714T110000
DTSTAMP:20260424T120812Z
UID:cfb538ea9451034f9cc11c47a9c365de@saas_stack_varnish:6080
CONTACT:Sharla Vincent\, 517-767-4769\, tekonlib@tekonshalibrary.org
CREATED:20130128T160703Z
DESCRIPTION:Please join us for an informal discussion of our latest book! 
  Copies are available at the circulation desk.
LAST-MODIFIED:20150626T154224Z
LOCATION:Tekonsha Township Library
URL:https://www.tekonlib.michlibrary.org/news-events/lib-cal/adult-book-cl
 ub-7.ics
END:VEVENT
BEGIN:VTIMEZONE
TZID:US/Eastern
X-LIC-LOCATION:US/Eastern
BEGIN:DAYLIGHT
DTSTART:20150308T030000
TZNAME:EDT
TZOFFSETFROM:-0500
TZOFFSETTO:-0400
END:DAYLIGHT
END:VTIMEZONE
END:VCALENDAR
